BEGIN:VCALENDAR
VERSION:2.0
PRODID:-//Mattea's Joy - ECPv6.8.2.1//NONSGML v1.0//EN
CALSCALE:GREGORIAN
METHOD:PUBLISH
X-ORIGINAL-URL:https://www.matteasjoy.org
X-WR-CALDESC:Events for Mattea's Joy
REFRESH-INTERVAL;VALUE=DURATION:PT1H
X-Robots-Tag:noindex
X-PUBLISHED-TTL:PT1H
BEGIN:VTIMEZONE
TZID:UTC
BEGIN:STANDARD
TZOFFSETFROM:+0000
TZOFFSETTO:+0000
TZNAME:UTC
DTSTART:20250101T000000
END:STANDARD
END:VTIMEZONE
BEGIN:VEVENT
DTSTART;TZID=UTC:20250905T110000
DTEND;TZID=UTC:20250905T180000
DTSTAMP:20260424T192733
CREATED:20231204T152952Z
LAST-MODIFIED:20250519T180704Z
UID:6828-1757070000-1757095200@www.matteasjoy.org
SUMMARY:Golf “fore” Joy outing
DESCRIPTION:Whether you’re an amateur or an expert golfer\, we would love if you came and joined us for a day out on a beautiful course with tasty food\, drinks\, and great company! \nRegister at www.golfforejoy.org \n11:00AM – Lunch and registration \n12:00PM – Four Person Scramble with a “shotgun” start \n4:30-6:00PM – Dinner and raffles/awards \nCome join us at we #golfforejoy! Proceeds from this event will help us continue to bring joy to families with hospitalized children. \nGolf registration includes lunch\, green fees\, cart fees\, sit-down dinner\, giveaways\, and chances for great prizes. \nSign up for golf\, dinner only or sponsorships at www.golfforejoy.org
URL:https://www.matteasjoy.org/events/golf-fore-joy-outing/
LOCATION:Kankakee Country Club\, 2011 Cobb Blvd.\, Kankakee\, 60901\, United States
ATTACH;FMTTYPE=image/png:https://www.matteasjoy.org/wp-content/uploads/2023/12/Golf-ForeJoy-8.5-×-11-in-Instagram-Post-2.png
END:VEVENT
END:VCALENDAR