BEGIN:VCALENDAR
VERSION:2.0
PRODID:-//Mattea's Joy - ECPv6.8.2.1//NONSGML v1.0//EN
CALSCALE:GREGORIAN
METHOD:PUBLISH
X-ORIGINAL-URL:https://www.matteasjoy.org
X-WR-CALDESC:Events for Mattea's Joy
REFRESH-INTERVAL;VALUE=DURATION:PT1H
X-Robots-Tag:noindex
X-PUBLISHED-TTL:PT1H
BEGIN:VTIMEZONE
TZID:UTC
BEGIN:STANDARD
TZOFFSETFROM:+0000
TZOFFSETTO:+0000
TZNAME:UTC
DTSTART:20250101T000000
END:STANDARD
TZID:America/Chicago
BEGIN:DAYLIGHT
TZOFFSETFROM:-0600
TZOFFSETTO:-0500
TZNAME:CDT
DTSTART:20260308T080000
END:DAYLIGHT
BEGIN:STANDARD
TZOFFSETFROM:-0500
TZOFFSETTO:-0600
TZNAME:CST
DTSTART:20261101T070000
END:STANDARD
END:VTIMEZONE
BEGIN:VEVENT
DTSTART;TZID=UTC:20250905T110000
DTEND;TZID=UTC:20250905T180000
DTSTAMP:20260425T123543
CREATED:20231204T152952Z
LAST-MODIFIED:20250519T180704Z
UID:6828-1757070000-1757095200@www.matteasjoy.org
SUMMARY:Golf “fore” Joy outing
DESCRIPTION:Whether you’re an amateur or an expert golfer\, we would love if you came and joined us for a day out on a beautiful course with tasty food\, drinks\, and great company! \nRegister at www.golfforejoy.org \n11:00AM – Lunch and registration \n12:00PM – Four Person Scramble with a “shotgun” start \n4:30-6:00PM – Dinner and raffles/awards \nCome join us at we #golfforejoy! Proceeds from this event will help us continue to bring joy to families with hospitalized children. \nGolf registration includes lunch\, green fees\, cart fees\, sit-down dinner\, giveaways\, and chances for great prizes. \nSign up for golf\, dinner only or sponsorships at www.golfforejoy.org
URL:https://www.matteasjoy.org/events/golf-fore-joy-outing/
LOCATION:Kankakee Country Club\, 2011 Cobb Blvd.\, Kankakee\, 60901\, United States
ATTACH;FMTTYPE=image/png:https://www.matteasjoy.org/wp-content/uploads/2023/12/Golf-ForeJoy-8.5-×-11-in-Instagram-Post-2.png
END:VEVENT
BEGIN:VEVENT
DTSTART;TZID=UTC:20260228T093000
DTEND;TZID=UTC:20260228T113000
DTSTAMP:20260425T123543
CREATED:20230719T180817Z
LAST-MODIFIED:20250519T181036Z
UID:6775-1772271000-1772278200@www.matteasjoy.org
SUMMARY:Princess Breakfast
DESCRIPTION:Bring your favorite little ones with their dolls to dine together with some princess magic. \nPurchase tickets beginning 12/2025 HERE \nFeel like royalty while enjoying crafts\, dancing\, delicious breakfast with a special chair for your doll to sit beside you\, story time with a princess\, and more. Twirling on the dance floor beside the princesses is encouraged! \nIt’s a perfect way to make some memories and feel the magic of having fun together! All of this joy will also allow us to continue bringing care\, comfort\, and connection to families with hospitalized children through our work with Mattea’s Joy. \nRegister Now
URL:https://www.matteasjoy.org/events/princess-breakfast/
LOCATION:Kankakee Country Club\, 2011 Cobb Blvd.\, Kankakee\, 60901\, United States
ATTACH;FMTTYPE=image/png:https://www.matteasjoy.org/wp-content/uploads/2023/07/Untitled-500-×-250-px.png
END:VEVENT
BEGIN:VEVENT
DTSTART;TZID=America/Chicago:20260502T080000
DTEND;TZID=America/Chicago:20260502T080000
DTSTAMP:20260425T123543
CREATED:20211004T175045Z
LAST-MODIFIED:20250519T183118Z
UID:5863-1777708800-1777708800@www.matteasjoy.org
SUMMARY:Super Hero 5K & 2 mile walk
DESCRIPTION:Help us to raise funds for “Super Hero” families with chronically ill kids. Prepare your best Super Hero costume and gather a group to run or walk with you! \nOnsite check in and registration will begin at 8:00AM. \n5K and 2 Mile Walk begin at 9:00AM. \nRegister in advance (by April 13th) to guarantee a t-shirt at: \nwww.runforjoy.org
URL:https://www.matteasjoy.org/events/super-hero-5k-2-mile-walk/
LOCATION:Perry Farm Park\, Bradley\, IL\, United States
ATTACH;FMTTYPE=image/jpeg:https://www.matteasjoy.org/wp-content/uploads/2021/10/Super-Hero-5k.jpg
END:VEVENT
END:VCALENDAR